BEGIN:VCALENDAR
VERSION:2.0
PRODID:-//Society Of Living Arts And Respite - ECPv6.15.20//NONSGML v1.0//EN
CALSCALE:GREGORIAN
METHOD:PUBLISH
X-ORIGINAL-URL:https://solaar.webtique.online
X-WR-CALDESC:Events for Society Of Living Arts And Respite
REFRESH-INTERVAL;VALUE=DURATION:PT1H
X-Robots-Tag:noindex
X-PUBLISHED-TTL:PT1H
BEGIN:VTIMEZONE
TZID:America/Halifax
BEGIN:DAYLIGHT
TZOFFSETFROM:-0400
TZOFFSETTO:-0300
TZNAME:ADT
DTSTART:20240310T060000
END:DAYLIGHT
BEGIN:STANDARD
TZOFFSETFROM:-0300
TZOFFSETTO:-0400
TZNAME:AST
DTSTART:20241103T050000
END:STANDARD
BEGIN:DAYLIGHT
TZOFFSETFROM:-0400
TZOFFSETTO:-0300
TZNAME:ADT
DTSTART:20250309T060000
END:DAYLIGHT
BEGIN:STANDARD
TZOFFSETFROM:-0300
TZOFFSETTO:-0400
TZNAME:AST
DTSTART:20251102T050000
END:STANDARD
BEGIN:DAYLIGHT
TZOFFSETFROM:-0400
TZOFFSETTO:-0300
TZNAME:ADT
DTSTART:20260308T060000
END:DAYLIGHT
BEGIN:STANDARD
TZOFFSETFROM:-0300
TZOFFSETTO:-0400
TZNAME:AST
DTSTART:20261101T050000
END:STANDARD
END:VTIMEZONE
BEGIN:VEVENT
DTSTART;VALUE=DATE:20250901
DTEND;VALUE=DATE:20250902
DTSTAMP:20260420T185601
CREATED:20250801T155108Z
LAST-MODIFIED:20250801T155108Z
UID:10002504-1756684800-1756771199@solaar.webtique.online
SUMMARY:School Closed - Labor Day
DESCRIPTION:
URL:https://solaar.webtique.online/event/school-closed-labor-day/
LOCATION:Solaar\, New Hope. 10539 122nd Ave Largo\, Largo\, FL\, United States
ORGANIZER;CN="Society of Living Arts And Respite":MAILTO:jodi@solaar.online
END:VEVENT
BEGIN:VEVENT
DTSTART;TZID=America/Halifax:20250721T130000
DTEND;TZID=America/Halifax:20250721T143000
DTSTAMP:20260420T185601
CREATED:20250629T183454Z
LAST-MODIFIED:20250629T190454Z
UID:10000012-1753102800-1753108200@solaar.webtique.online
SUMMARY:Financial Literacy
DESCRIPTION:Financial Literacy Class Starts Next Week!  \n\n\n\nSpots are limited — sign up online ASAP! \n\n\n\nThis isn’t your average money talk — it’s packed with fun games\, real-world activities\, and engaging conversations that empower kids and teens to feel confident with money.  \n\n\n\n Starts June 23rd 5 week class \n\n\n\n New Hope\, Largo \n\n\n\n For ages 8+ \n\n\n\n Budgeting • Saving • Smart Spending • Entrepreneur Mindset \n\n\n\n Register now to secure your spot: www.solaar.online \n\n\n\nLet’s help the next generation build strong\, smart financial foundations! \n\n\n\n\nRegister Today
URL:https://solaar.webtique.online/event/financial-literacy-jul-21/
LOCATION:Solaar\, New Hope. 10539 122nd Ave Largo\, Largo\, FL\, United States
CATEGORIES:Lessons
ATTACH;FMTTYPE=image/jpeg:https://solaar.webtique.online/wp-content/uploads/2025/06/May-be-an-image-of-money-and-text-that-says-30-70-15-70-50-25-0-حے-0.jpg
END:VEVENT
BEGIN:VEVENT
DTSTART;TZID=America/Halifax:20250715T130000
DTEND;TZID=America/Halifax:20250715T143000
DTSTAMP:20260420T185601
CREATED:20250627T102338Z
LAST-MODIFIED:20250627T134756Z
UID:10000006-1752584400-1752589800@solaar.webtique.online
SUMMARY:Harry Potter Class
DESCRIPTION:Looking for some engaging summer activities? \n\n\n\n Summer Reading Adventure: Harry Potter & the Sorcerer’s Stone!  \n\n\n\nCalling all young wizards and witches ages 8–12! Join us for a magical summer reading experience as we dive into Harry Potter and the Sorcerer’s Stone  \n\n\n\n Tuesdays | 1:00–2:30 PM \n\n\n\n June 24 – July 22nd \n\n\n\n $30 per class \n\n\n\n PEP and UA scholarships accepted – direct billed! \n\n\n\nEach week includes: \n\n\n\n Engaging group discussion \n\n\n\n Bridge ELA activities (grammar\, comprehension\, literary techniques & creative writing) \n\n\n\n Fun Harry Potter-inspired science projects! \n\n\n\nSpark imagination\, strengthen academic skills\, and make reading magical this summer!  \n\n\n\n Message us or call 727-370-5049 to register or learn more! \n\n\n\n\nRegister Today
URL:https://solaar.webtique.online/event/harry-potter-class-july-22/
LOCATION:Solaar\, New Hope. 10539 122nd Ave Largo\, Largo\, FL\, United States
ATTACH;FMTTYPE=image/jpeg:https://solaar.webtique.online/wp-content/uploads/2025/06/Harry-Potter-Class.jpg
END:VEVENT
BEGIN:VEVENT
DTSTART;TZID=America/Halifax:20250715T130000
DTEND;TZID=America/Halifax:20250715T143000
DTSTAMP:20260420T185601
CREATED:20250627T102306Z
LAST-MODIFIED:20250627T134724Z
UID:10000005-1752584400-1752589800@solaar.webtique.online
SUMMARY:Harry Potter Class
DESCRIPTION:Looking for some engaging summer activities? \n\n\n\n Summer Reading Adventure: Harry Potter & the Sorcerer’s Stone!  \n\n\n\nCalling all young wizards and witches ages 8–12! Join us for a magical summer reading experience as we dive into Harry Potter and the Sorcerer’s Stone  \n\n\n\n Tuesdays | 1:00–2:30 PM \n\n\n\n June 24 – July 22nd \n\n\n\n $30 per class \n\n\n\n PEP and UA scholarships accepted – direct billed! \n\n\n\nEach week includes: \n\n\n\n Engaging group discussion \n\n\n\n Bridge ELA activities (grammar\, comprehension\, literary techniques & creative writing) \n\n\n\n Fun Harry Potter-inspired science projects! \n\n\n\nSpark imagination\, strengthen academic skills\, and make reading magical this summer!  \n\n\n\n Message us or call 727-370-5049 to register or learn more! \n\n\n\n\nRegister Today
URL:https://solaar.webtique.online/event/harry-potter-class-july-15/
LOCATION:Solaar\, New Hope. 10539 122nd Ave Largo\, Largo\, FL\, United States
ATTACH;FMTTYPE=image/jpeg:https://solaar.webtique.online/wp-content/uploads/2025/06/Harry-Potter-Class.jpg
END:VEVENT
BEGIN:VEVENT
DTSTART;TZID=America/Halifax:20250714T130000
DTEND;TZID=America/Halifax:20250714T143000
DTSTAMP:20260420T185601
CREATED:20250629T183404Z
LAST-MODIFIED:20250629T190408Z
UID:10000010-1752498000-1752503400@solaar.webtique.online
SUMMARY:Financial Literacy
DESCRIPTION:Financial Literacy Class Starts Next Week!  \n\n\n\nSpots are limited — sign up online ASAP! \n\n\n\nThis isn’t your average money talk — it’s packed with fun games\, real-world activities\, and engaging conversations that empower kids and teens to feel confident with money.  \n\n\n\n Starts June 23rd 5 week class \n\n\n\n New Hope\, Largo \n\n\n\n For ages 8+ \n\n\n\n Budgeting • Saving • Smart Spending • Entrepreneur Mindset \n\n\n\n Register now to secure your spot: www.solaar.online \n\n\n\nLet’s help the next generation build strong\, smart financial foundations! \n\n\n\n\nRegister Today
URL:https://solaar.webtique.online/event/financial-literacy-jul-14/
LOCATION:Solaar\, New Hope. 10539 122nd Ave Largo\, Largo\, FL\, United States
CATEGORIES:Lessons
ATTACH;FMTTYPE=image/jpeg:https://solaar.webtique.online/wp-content/uploads/2025/06/May-be-an-image-of-money-and-text-that-says-30-70-15-70-50-25-0-حے-0.jpg
END:VEVENT
BEGIN:VEVENT
DTSTART;TZID=America/Halifax:20250708T130000
DTEND;TZID=America/Halifax:20250708T143000
DTSTAMP:20260420T185601
CREATED:20250627T102152Z
LAST-MODIFIED:20250627T134553Z
UID:10000004-1751979600-1751985000@solaar.webtique.online
SUMMARY:Harry Potter Class
DESCRIPTION:Looking for some engaging summer activities? \n\n\n\n Summer Reading Adventure: Harry Potter & the Sorcerer’s Stone!  \n\n\n\nCalling all young wizards and witches ages 8–12! Join us for a magical summer reading experience as we dive into Harry Potter and the Sorcerer’s Stone  \n\n\n\n Tuesdays | 1:00–2:30 PM \n\n\n\n June 24 – July 22nd \n\n\n\n $30 per class \n\n\n\n PEP and UA scholarships accepted – direct billed! \n\n\n\nEach week includes: \n\n\n\n Engaging group discussion \n\n\n\n Bridge ELA activities (grammar\, comprehension\, literary techniques & creative writing) \n\n\n\n Fun Harry Potter-inspired science projects! \n\n\n\nSpark imagination\, strengthen academic skills\, and make reading magical this summer!  \n\n\n\n Message us or call 727-370-5049 to register or learn more! \n\n\n\n\nRegister Today
URL:https://solaar.webtique.online/event/harry-potter-class-july-8/
LOCATION:Solaar\, New Hope. 10539 122nd Ave Largo\, Largo\, FL\, United States
ATTACH;FMTTYPE=image/jpeg:https://solaar.webtique.online/wp-content/uploads/2025/06/Harry-Potter-Class.jpg
END:VEVENT
BEGIN:VEVENT
DTSTART;TZID=America/Halifax:20250707T130000
DTEND;TZID=America/Halifax:20250707T143000
DTSTAMP:20260420T185601
CREATED:20250629T183255Z
LAST-MODIFIED:20250629T190419Z
UID:10000009-1751893200-1751898600@solaar.webtique.online
SUMMARY:Financial Literacy
DESCRIPTION:Financial Literacy Class Starts Next Week!  \n\n\n\nSpots are limited — sign up online ASAP! \n\n\n\nThis isn’t your average money talk — it’s packed with fun games\, real-world activities\, and engaging conversations that empower kids and teens to feel confident with money.  \n\n\n\n Starts June 23rd 5 week class \n\n\n\n New Hope\, Largo \n\n\n\n For ages 8+ \n\n\n\n Budgeting • Saving • Smart Spending • Entrepreneur Mindset \n\n\n\n Register now to secure your spot: www.solaar.online \n\n\n\nLet’s help the next generation build strong\, smart financial foundations! \n\n\n\n\nRegister Today
URL:https://solaar.webtique.online/event/financial-literacy-jul-7/
LOCATION:Solaar\, New Hope. 10539 122nd Ave Largo\, Largo\, FL\, United States
CATEGORIES:Lessons
ATTACH;FMTTYPE=image/jpeg:https://solaar.webtique.online/wp-content/uploads/2025/06/May-be-an-image-of-money-and-text-that-says-30-70-15-70-50-25-0-حے-0.jpg
END:VEVENT
BEGIN:VEVENT
DTSTART;TZID=America/Halifax:20250701T130000
DTEND;TZID=America/Halifax:20250701T143000
DTSTAMP:20260420T185601
CREATED:20250627T102052Z
LAST-MODIFIED:20250627T134524Z
UID:10000003-1751374800-1751380200@solaar.webtique.online
SUMMARY:Harry Potter Class
DESCRIPTION:Looking for some engaging summer activities? \n\n\n\n Summer Reading Adventure: Harry Potter & the Sorcerer’s Stone!  \n\n\n\nCalling all young wizards and witches ages 8–12! Join us for a magical summer reading experience as we dive into Harry Potter and the Sorcerer’s Stone  \n\n\n\n Tuesdays | 1:00–2:30 PM \n\n\n\n June 24 – July 22nd \n\n\n\n $30 per class \n\n\n\n PEP and UA scholarships accepted – direct billed! \n\n\n\nEach week includes: \n\n\n\n Engaging group discussion \n\n\n\n Bridge ELA activities (grammar\, comprehension\, literary techniques & creative writing) \n\n\n\n Fun Harry Potter-inspired science projects! \n\n\n\nSpark imagination\, strengthen academic skills\, and make reading magical this summer!  \n\n\n\n Message us or call 727-370-5049 to register or learn more! \n\n\n\n\nRegister Today
URL:https://solaar.webtique.online/event/harry-potter-class-july-1/
LOCATION:Solaar\, New Hope. 10539 122nd Ave Largo\, Largo\, FL\, United States
ATTACH;FMTTYPE=image/jpeg:https://solaar.webtique.online/wp-content/uploads/2025/06/Harry-Potter-Class.jpg
END:VEVENT
BEGIN:VEVENT
DTSTART;TZID=America/Halifax:20250630T130000
DTEND;TZID=America/Halifax:20250630T143000
DTSTAMP:20260420T185601
CREATED:20250629T182922Z
LAST-MODIFIED:20250629T190326Z
UID:10000008-1751288400-1751293800@solaar.webtique.online
SUMMARY:Financial Literacy
DESCRIPTION:Financial Literacy Class Starts Next Week!  \n\n\n\nSpots are limited — sign up online ASAP! \n\n\n\nThis isn’t your average money talk — it’s packed with fun games\, real-world activities\, and engaging conversations that empower kids and teens to feel confident with money.  \n\n\n\n Starts June 23rd 5 week class \n\n\n\n New Hope\, Largo \n\n\n\n For ages 8+ \n\n\n\n Budgeting • Saving • Smart Spending • Entrepreneur Mindset \n\n\n\n Register now to secure your spot: www.solaar.online \n\n\n\nLet’s help the next generation build strong\, smart financial foundations! \n\n\n\n\nRegister Today
URL:https://solaar.webtique.online/event/financial-literacy-jun-30/
LOCATION:Solaar\, New Hope. 10539 122nd Ave Largo\, Largo\, FL\, United States
CATEGORIES:Lessons
ATTACH;FMTTYPE=image/jpeg:https://solaar.webtique.online/wp-content/uploads/2025/06/May-be-an-image-of-money-and-text-that-says-30-70-15-70-50-25-0-حے-0.jpg
END:VEVENT
BEGIN:VEVENT
DTSTART;TZID=America/Halifax:20250624T133000
DTEND;TZID=America/Halifax:20250624T150000
DTSTAMP:20260420T185601
CREATED:20250627T101156Z
LAST-MODIFIED:20250629T183147Z
UID:10000001-1750771800-1750777200@solaar.webtique.online
SUMMARY:Printmaking For Kids
DESCRIPTION:Join us for a creative afternoon of yarn art + tempera paint printmaking!  \n\n\n\n This hands-on class is perfect for children ages 7–10 who love to explore color\, texture\, and imagination. We’ll use yarn and paint to make bold\, beautiful prints inspired by the playful and colorful world of artist Joan Miró! \n\n\n\n Date: Tuesday\, June 24th \n\n\n\n Time: 1:30 – 3:00 \n\n\n\n Location: SOLAAR in Largo \n\n\n\n Kids will: \n\n\n\n Design their own yarn print plate \n\n\n\n Paint and press their creations onto paper \n\n\n\n Learn about abstract art and expression \n\n\n\n Take home their one-of-a-kind masterpieces! \n\n\n\n No experience needed — just bring your curiosity and creativity. All materials provided! \n\n\n\n Spots are limited — RSVP now to reserve your child’s seat! \n\n\n\nComment below or call/ text \n\n\n\n727-370-5049 \n\n\n\nLet’s get messy and make some magic!  \n\n\n\n\nRegister Today
URL:https://solaar.webtique.online/event/printmaking-for-kids/
LOCATION:Solaar\, New Hope. 10539 122nd Ave Largo\, Largo\, FL\, United States
ATTACH;FMTTYPE=image/jpeg:https://solaar.webtique.online/wp-content/uploads/2025/06/May-be-pop-art-of-lace.jpg
ORGANIZER;CN="Society of Living Arts And Respite":MAILTO:jodi@solaar.online
END:VEVENT
BEGIN:VEVENT
DTSTART;TZID=America/Halifax:20250624T130000
DTEND;TZID=America/Halifax:20250624T143000
DTSTAMP:20260420T185601
CREATED:20250627T101945Z
LAST-MODIFIED:20250627T134405Z
UID:10000002-1750770000-1750775400@solaar.webtique.online
SUMMARY:Harry Potter Class
DESCRIPTION:Looking for some engaging summer activities? \n\n\n\n Summer Reading Adventure: Harry Potter & the Sorcerer’s Stone!  \n\n\n\nCalling all young wizards and witches ages 8–12! Join us for a magical summer reading experience as we dive into Harry Potter and the Sorcerer’s Stone  \n\n\n\n Tuesdays | 1:00–2:30 PM \n\n\n\n June 24 – July 22nd \n\n\n\n $30 per class \n\n\n\n PEP and UA scholarships accepted – direct billed! \n\n\n\nEach week includes: \n\n\n\n Engaging group discussion \n\n\n\n Bridge ELA activities (grammar\, comprehension\, literary techniques & creative writing) \n\n\n\n Fun Harry Potter-inspired science projects! \n\n\n\nSpark imagination\, strengthen academic skills\, and make reading magical this summer!  \n\n\n\n Message us or call 727-370-5049 to register or learn more! \n\n\n\n\nRegister Today
URL:https://solaar.webtique.online/event/harry-potter-class/
LOCATION:Solaar\, New Hope. 10539 122nd Ave Largo\, Largo\, FL\, United States
ATTACH;FMTTYPE=image/jpeg:https://solaar.webtique.online/wp-content/uploads/2025/06/Harry-Potter-Class.jpg
END:VEVENT
BEGIN:VEVENT
DTSTART;TZID=America/Halifax:20250623T130000
DTEND;TZID=America/Halifax:20250623T143000
DTSTAMP:20260420T185601
CREATED:20250627T103401Z
LAST-MODIFIED:20250629T190253Z
UID:10000007-1750683600-1750689000@solaar.webtique.online
SUMMARY:Financial Literacy
DESCRIPTION:Financial Literacy Class Starts Next Week!  \n\n\n\nSpots are limited — sign up online ASAP! \n\n\n\nThis isn’t your average money talk — it’s packed with fun games\, real-world activities\, and engaging conversations that empower kids and teens to feel confident with money.  \n\n\n\n Starts June 23rd 5 week class \n\n\n\n New Hope\, Largo \n\n\n\n For ages 8+ \n\n\n\n Budgeting • Saving • Smart Spending • Entrepreneur Mindset \n\n\n\n Register now to secure your spot: www.solaar.online \n\n\n\nLet’s help the next generation build strong\, smart financial foundations! \n\n\n\n\nRegister Today
URL:https://solaar.webtique.online/event/financial-literacy-jun-23/
LOCATION:Solaar\, New Hope. 10539 122nd Ave Largo\, Largo\, FL\, United States
CATEGORIES:Lessons
ATTACH;FMTTYPE=image/jpeg:https://solaar.webtique.online/wp-content/uploads/2025/06/May-be-an-image-of-money-and-text-that-says-30-70-15-70-50-25-0-حے-0.jpg
END:VEVENT
BEGIN:VEVENT
DTSTART;VALUE=DATE:20250609
DTEND;VALUE=DATE:20250802
DTSTAMP:20260420T185601
CREATED:20250629T185457Z
LAST-MODIFIED:20250629T191139Z
UID:10000013-1749427200-1754092799@solaar.webtique.online
SUMMARY:SOLAAR Summer Camp 2025
DESCRIPTION:9 am – 2:30 pm Mon – Fri\nFun\, Friends\, and Growth—All Summer Long\n\nGive your child the ultimate summer experience where they can make new friends\, build confidence\, and explore exciting activities in a safe and supportive setting. SOLAAR Summer Camp is designed to keep kids engaged\, learning\, and having fun while developing important social and life skills.\n\n\nWhy Parents Love SOLAAR Summer Camp\nEncourages Social Growth – Kids build friendships and teamwork skills\nFun and Engaging Activities – Creative play\, group games\, and hands-on learning\nSafe and Supportive Environment – Caring staff dedicated to your child’s success\nBuilds Confidence and Independence – Encourages self-expression and problem-solving\n\n\nLocation: Largo\, FL\nDates: June 9th – Aug 1sst\nHours: 9:00 AM – 2:30 PM\nBefore & After Care Available\nAges: 6-12\nCost: $40 per day\n\n\nLimited spots available. Secure your child’s place today.\n\n\nCall or Text: Jodi Buchanan at 727-370-5049\nLearn More & Register: www.solaar.online\n\n\nMake this summer an unforgettable experience for your child!\n\n\n\n\n\nRegister Today
URL:https://solaar.webtique.online/event/solaar-summer-camp-2025/
LOCATION:Solaar\, New Hope. 10539 122nd Ave Largo\, Largo\, FL\, United States
CATEGORIES:Group Events
ATTACH;FMTTYPE=image/jpeg:https://solaar.webtique.online/wp-content/uploads/2025/03/Summer-Camp.jpg
END:VEVENT
END:VCALENDAR