BEGIN:VCALENDAR
VERSION:2.0
PRODID:-//Society Of Living Arts And Respite - ECPv6.15.20//NONSGML v1.0//EN
CALSCALE:GREGORIAN
METHOD:PUBLISH
X-ORIGINAL-URL:https://solaar.webtique.online
X-WR-CALDESC:Events for Society Of Living Arts And Respite
REFRESH-INTERVAL;VALUE=DURATION:PT1H
X-Robots-Tag:noindex
X-PUBLISHED-TTL:PT1H
BEGIN:VTIMEZONE
TZID:America/Halifax
BEGIN:DAYLIGHT
TZOFFSETFROM:-0400
TZOFFSETTO:-0300
TZNAME:ADT
DTSTART:20240310T060000
END:DAYLIGHT
BEGIN:STANDARD
TZOFFSETFROM:-0300
TZOFFSETTO:-0400
TZNAME:AST
DTSTART:20241103T050000
END:STANDARD
BEGIN:DAYLIGHT
TZOFFSETFROM:-0400
TZOFFSETTO:-0300
TZNAME:ADT
DTSTART:20250309T060000
END:DAYLIGHT
BEGIN:STANDARD
TZOFFSETFROM:-0300
TZOFFSETTO:-0400
TZNAME:AST
DTSTART:20251102T050000
END:STANDARD
BEGIN:DAYLIGHT
TZOFFSETFROM:-0400
TZOFFSETTO:-0300
TZNAME:ADT
DTSTART:20260308T060000
END:DAYLIGHT
BEGIN:STANDARD
TZOFFSETFROM:-0300
TZOFFSETTO:-0400
TZNAME:AST
DTSTART:20261101T050000
END:STANDARD
END:VTIMEZONE
BEGIN:VEVENT
DTSTART;TZID=America/Halifax:20251009T130000
DTEND;TZID=America/Halifax:20251009T135000
DTSTAMP:20260419T132442
CREATED:20250724T142229Z
LAST-MODIFIED:20250801T162351Z
UID:10001507-1760014800-1760017800@solaar.webtique.online
SUMMARY:Germany
DESCRIPTION:Development of Dictatorship 1918-1945. Ages 11+ \nPLEASE NOTE \n\nSCHOOL IS CLOSED ON SEPTEMBER 1st FOR LABOR DAY\nTHERE WILL BE NO CLASSES FOR THE WEEK OF SEPTEMBER 15th\n\n\n\nRegister Today
URL:https://solaar.webtique.online/event/germany/2025-10-09/
LOCATION:Solaar\, New Hope. 10539 122nd Ave Largo\, Largo\, FL\, United States
CATEGORIES:Lessons
ORGANIZER;CN="Society of Living Arts And Respite":MAILTO:jodi@solaar.online
END:VEVENT
BEGIN:VEVENT
DTSTART;TZID=America/Halifax:20251009T120000
DTEND;TZID=America/Halifax:20251009T130000
DTSTAMP:20260419T132442
CREATED:20250724T140347Z
LAST-MODIFIED:20250801T162324Z
UID:10001449-1760011200-1760014800@solaar.webtique.online
SUMMARY:Lunch / Private Tuition
DESCRIPTION:PLEASE NOTE \n\nSCHOOL IS CLOSED ON SEPTEMBER 1st FOR LABOR DAY\nTHERE WILL BE NO CLASSES FOR THE WEEK OF SEPTEMBER 15th\n\n\n\nRegister Today
URL:https://solaar.webtique.online/event/lunch-private-tuition-4/2025-10-09/
LOCATION:Solaar\, New Hope. 10539 122nd Ave Largo\, Largo\, FL\, United States
CATEGORIES:Lessons
ORGANIZER;CN="Society of Living Arts And Respite":MAILTO:jodi@solaar.online
END:VEVENT
BEGIN:VEVENT
DTSTART;TZID=America/Halifax:20251009T110000
DTEND;TZID=America/Halifax:20251009T115000
DTSTAMP:20260419T132442
CREATED:20250724T140242Z
LAST-MODIFIED:20250801T162314Z
UID:10001391-1760007600-1760010600@solaar.webtique.online
SUMMARY:USA Wild Geography Term 1
DESCRIPTION:US deserts Ages 6-10 \n  \nPLEASE NOTE \n\nSCHOOL IS CLOSED ON SEPTEMBER 1st FOR LABOR DAY\nTHERE WILL BE NO CLASSES FOR THE WEEK OF SEPTEMBER 15th\n\n\n\nRegister Today
URL:https://solaar.webtique.online/event/usa-wild-geography-term-1/2025-10-09/
LOCATION:Solaar\, New Hope. 10539 122nd Ave Largo\, Largo\, FL\, United States
CATEGORIES:Lessons
ORGANIZER;CN="Society of Living Arts And Respite":MAILTO:jodi@solaar.online
END:VEVENT
BEGIN:VEVENT
DTSTART;TZID=America/Halifax:20251009T100000
DTEND;TZID=America/Halifax:20251009T105000
DTSTAMP:20260419T132442
CREATED:20250724T140117Z
LAST-MODIFIED:20250801T162304Z
UID:10001333-1760004000-1760007000@solaar.webtique.online
SUMMARY:Music and Movement 6-10
DESCRIPTION:PLEASE NOTE \n\nSCHOOL IS CLOSED ON SEPTEMBER 1st FOR LABOR DAY\nTHERE WILL BE NO CLASSES FOR THE WEEK OF SEPTEMBER 15th\n\n\n\nRegister Today
URL:https://solaar.webtique.online/event/music-and-movement-6-10/2025-10-09/
LOCATION:Solaar\, New Hope. 10539 122nd Ave Largo\, Largo\, FL\, United States
CATEGORIES:Lessons
ORGANIZER;CN="Society of Living Arts And Respite":MAILTO:jodi@solaar.online
END:VEVENT
BEGIN:VEVENT
DTSTART;TZID=America/Halifax:20251008T170000
DTEND;TZID=America/Halifax:20251008T175000
DTSTAMP:20260419T132442
CREATED:20250724T135936Z
LAST-MODIFIED:20250801T162253Z
UID:10001275-1759942800-1759945800@solaar.webtique.online
SUMMARY:Piano Lessons
DESCRIPTION:PLEASE NOTE \n\nSCHOOL IS CLOSED ON SEPTEMBER 1st FOR LABOR DAY\nTHERE WILL BE NO CLASSES FOR THE WEEK OF SEPTEMBER 15th\n\n\n\nRegister Today
URL:https://solaar.webtique.online/event/piano-lessons-2/2025-10-08/
LOCATION:Solaar\, New Hope. 10539 122nd Ave Largo\, Largo\, FL\, United States
CATEGORIES:Lessons
ORGANIZER;CN="Society of Living Arts And Respite":MAILTO:jodi@solaar.online
END:VEVENT
BEGIN:VEVENT
DTSTART;TZID=America/Halifax:20251008T160000
DTEND;TZID=America/Halifax:20251008T165000
DTSTAMP:20260419T132442
CREATED:20250724T135840Z
LAST-MODIFIED:20250801T162242Z
UID:10001217-1759939200-1759942200@solaar.webtique.online
SUMMARY:Private Tuition
DESCRIPTION:PLEASE NOTE \n\nSCHOOL IS CLOSED ON SEPTEMBER 1st FOR LABOR DAY\nTHERE WILL BE NO CLASSES FOR THE WEEK OF SEPTEMBER 15th\n\n\n\nRegister Today
URL:https://solaar.webtique.online/event/private-tuition-4/2025-10-08/
LOCATION:Solaar\, New Hope. 10539 122nd Ave Largo\, Largo\, FL\, United States
CATEGORIES:Lessons
ORGANIZER;CN="Society of Living Arts And Respite":MAILTO:jodi@solaar.online
END:VEVENT
BEGIN:VEVENT
DTSTART;TZID=America/Halifax:20251008T150000
DTEND;TZID=America/Halifax:20251008T155000
DTSTAMP:20260419T132442
CREATED:20250724T135711Z
LAST-MODIFIED:20250801T162231Z
UID:10001159-1759935600-1759938600@solaar.webtique.online
SUMMARY:Private Tuition
DESCRIPTION:PLEASE NOTE \n\nSCHOOL IS CLOSED ON SEPTEMBER 1st FOR LABOR DAY\nTHERE WILL BE NO CLASSES FOR THE WEEK OF SEPTEMBER 15th\n\n\n\nRegister Today
URL:https://solaar.webtique.online/event/private-tuition-3/2025-10-08/
LOCATION:Solaar\, New Hope. 10539 122nd Ave Largo\, Largo\, FL\, United States
CATEGORIES:Lessons
ORGANIZER;CN="Society of Living Arts And Respite":MAILTO:jodi@solaar.online
END:VEVENT
BEGIN:VEVENT
DTSTART;TZID=America/Halifax:20251008T140000
DTEND;TZID=America/Halifax:20251008T145000
DTSTAMP:20260419T132442
CREATED:20250724T135518Z
LAST-MODIFIED:20250801T162221Z
UID:10001101-1759932000-1759935000@solaar.webtique.online
SUMMARY:Engineering Ages 8 - 11
DESCRIPTION:PLEASE NOTE \n\nSCHOOL IS CLOSED ON SEPTEMBER 1st FOR LABOR DAY\nTHERE WILL BE NO CLASSES FOR THE WEEK OF SEPTEMBER 15th\n\n\n\nRegister Today
URL:https://solaar.webtique.online/event/watercolor-techniques-6-8/2025-10-08/
LOCATION:Solaar\, New Hope. 10539 122nd Ave Largo\, Largo\, FL\, United States
CATEGORIES:Lessons
ORGANIZER;CN="Society of Living Arts And Respite":MAILTO:jodi@solaar.online
END:VEVENT
BEGIN:VEVENT
DTSTART;TZID=America/Halifax:20251008T130000
DTEND;TZID=America/Halifax:20251008T135000
DTSTAMP:20260419T132442
CREATED:20250724T135337Z
LAST-MODIFIED:20250801T162207Z
UID:10001043-1759928400-1759931400@solaar.webtique.online
SUMMARY:Literature lessons 6-8+
DESCRIPTION:Fun with children’s poetry and excerpts from children’s literature \n  \nPLEASE NOTE \n\nSCHOOL IS CLOSED ON SEPTEMBER 1st FOR LABOR DAY\nTHERE WILL BE NO CLASSES FOR THE WEEK OF SEPTEMBER 15th\n\n\n\nRegister Today
URL:https://solaar.webtique.online/event/literature-lessons-6-8/2025-10-08/
LOCATION:Solaar\, New Hope. 10539 122nd Ave Largo\, Largo\, FL\, United States
CATEGORIES:Lessons
ORGANIZER;CN="Society of Living Arts And Respite":MAILTO:jodi@solaar.online
END:VEVENT
BEGIN:VEVENT
DTSTART;TZID=America/Halifax:20251008T120000
DTEND;TZID=America/Halifax:20251008T130000
DTSTAMP:20260419T132442
CREATED:20250724T135206Z
LAST-MODIFIED:20250801T162156Z
UID:10000985-1759924800-1759928400@solaar.webtique.online
SUMMARY:Lunch / Private Tuition
DESCRIPTION:PLEASE NOTE \n\nSCHOOL IS CLOSED ON SEPTEMBER 1st FOR LABOR DAY\nTHERE WILL BE NO CLASSES FOR THE WEEK OF SEPTEMBER 15th\n\n\n\nRegister Today
URL:https://solaar.webtique.online/event/lunch-private-tuition-3/2025-10-08/
LOCATION:Solaar\, New Hope. 10539 122nd Ave Largo\, Largo\, FL\, United States
CATEGORIES:Lessons
ORGANIZER;CN="Society of Living Arts And Respite":MAILTO:jodi@solaar.online
END:VEVENT
BEGIN:VEVENT
DTSTART;TZID=America/Halifax:20251008T110000
DTEND;TZID=America/Halifax:20251008T115000
DTSTAMP:20260419T132442
CREATED:20250724T134956Z
LAST-MODIFIED:20250801T162143Z
UID:10000927-1759921200-1759924200@solaar.webtique.online
SUMMARY:Mathematics Ages 6-9
DESCRIPTION:New topic: Introduction / Math Games \n  \nPLEASE NOTE \n\nSCHOOL IS CLOSED ON SEPTEMBER 1st FOR LABOR DAY\nTHERE WILL BE NO CLASSES FOR THE WEEK OF SEPTEMBER 15th\n\n\n\nRegister Today
URL:https://solaar.webtique.online/event/mathematics-ages-6-9/2025-10-08/
LOCATION:Solaar\, New Hope. 10539 122nd Ave Largo\, Largo\, FL\, United States
CATEGORIES:Lessons
ORGANIZER;CN="Society of Living Arts And Respite":MAILTO:jodi@solaar.online
END:VEVENT
BEGIN:VEVENT
DTSTART;TZID=America/Halifax:20251008T100000
DTEND;TZID=America/Halifax:20251008T105000
DTSTAMP:20260419T132442
CREATED:20250724T134612Z
LAST-MODIFIED:20250801T162132Z
UID:10000869-1759917600-1759920600@solaar.webtique.online
SUMMARY:IEW Ages 8-10 Fables\, Myths\, and Fairy Tales
DESCRIPTION:PLEASE NOTE \n\nSCHOOL IS CLOSED ON SEPTEMBER 1st FOR LABOR DAY\nTHERE WILL BE NO CLASSES FOR THE WEEK OF SEPTEMBER 15th\n\n\n\nRegister Today
URL:https://solaar.webtique.online/event/iew-ages-8-10-fables-myths-and-fairy-tales/2025-10-08/
LOCATION:Solaar\, New Hope. 10539 122nd Ave Largo\, Largo\, FL\, United States
CATEGORIES:Lessons
ORGANIZER;CN="Society of Living Arts And Respite":MAILTO:jodi@solaar.online
END:VEVENT
BEGIN:VEVENT
DTSTART;TZID=America/Halifax:20251008T093000
DTEND;TZID=America/Halifax:20251008T110000
DTSTAMP:20260419T132442
CREATED:20250724T131221Z
LAST-MODIFIED:20250801T162122Z
UID:10002449-1759915800-1759921200@solaar.webtique.online
SUMMARY:Tiny and Tall Time
DESCRIPTION:PLEASE NOTE \n\nSCHOOL IS CLOSED ON SEPTEMBER 1st FOR LABOR DAY\nTHERE WILL BE NO CLASSES FOR THE WEEK OF SEPTEMBER 15th\n\n\n\nRegister Today
URL:https://solaar.webtique.online/event/tiny-and-tall-time/2025-10-08/
LOCATION:Solaar\, New Hope. 10539 122nd Ave Largo\, Largo\, FL\, United States
CATEGORIES:Lessons
ORGANIZER;CN="Society of Living Arts And Respite":MAILTO:jodi@solaar.online
END:VEVENT
BEGIN:VEVENT
DTSTART;TZID=America/Halifax:20251007T180000
DTEND;TZID=America/Halifax:20251007T185000
DTSTAMP:20260419T132442
CREATED:20250724T133112Z
LAST-MODIFIED:20250801T162022Z
UID:10000753-1759860000-1759863000@solaar.webtique.online
SUMMARY:De Escalation Techniques For Ages 14+
DESCRIPTION:PLEASE NOTE \n\nSCHOOL IS CLOSED ON SEPTEMBER 1st FOR LABOR DAY\nTHERE WILL BE NO CLASSES FOR THE WEEK OF SEPTEMBER 15th\n\n\n\nRegister Today
URL:https://solaar.webtique.online/event/de-escalation-techniques-for-ages-14/2025-10-07/
LOCATION:Solaar\, New Hope. 10539 122nd Ave Largo\, Largo\, FL\, United States
CATEGORIES:Lessons
ORGANIZER;CN="Society of Living Arts And Respite":MAILTO:jodi@solaar.online
END:VEVENT
BEGIN:VEVENT
DTSTART;TZID=America/Halifax:20251007T170000
DTEND;TZID=America/Halifax:20251007T175000
DTSTAMP:20260419T132442
CREATED:20250724T132833Z
LAST-MODIFIED:20250801T161955Z
UID:10000695-1759856400-1759859400@solaar.webtique.online
SUMMARY:Private Tuition
DESCRIPTION:PLEASE NOTE \n\nSCHOOL IS CLOSED ON SEPTEMBER 1st FOR LABOR DAY\nTHERE WILL BE NO CLASSES FOR THE WEEK OF SEPTEMBER 15th\n\n\n\nRegister Today
URL:https://solaar.webtique.online/event/private-tuition-duplicate/2025-10-07/
LOCATION:Solaar\, New Hope. 10539 122nd Ave Largo\, Largo\, FL\, United States
CATEGORIES:Private Tuition
ORGANIZER;CN="Society of Living Arts And Respite":MAILTO:jodi@solaar.online
END:VEVENT
BEGIN:VEVENT
DTSTART;TZID=America/Halifax:20251007T160000
DTEND;TZID=America/Halifax:20251007T165000
DTSTAMP:20260419T132442
CREATED:20250724T132818Z
LAST-MODIFIED:20250801T161941Z
UID:10000637-1759852800-1759855800@solaar.webtique.online
SUMMARY:Private Tuition
DESCRIPTION:PLEASE NOTE \n\nSCHOOL IS CLOSED ON SEPTEMBER 1st FOR LABOR DAY\nTHERE WILL BE NO CLASSES FOR THE WEEK OF SEPTEMBER 15th\n\n\n\nRegister Today
URL:https://solaar.webtique.online/event/private-tuition-duplicate-duplicate/2025-10-07/
LOCATION:Solaar\, New Hope. 10539 122nd Ave Largo\, Largo\, FL\, United States
CATEGORIES:Private Tuition
ORGANIZER;CN="Society of Living Arts And Respite":MAILTO:jodi@solaar.online
END:VEVENT
BEGIN:VEVENT
DTSTART;TZID=America/Halifax:20251007T150000
DTEND;TZID=America/Halifax:20251007T155000
DTSTAMP:20260419T132442
CREATED:20250724T132709Z
LAST-MODIFIED:20250801T161929Z
UID:10000579-1759849200-1759852200@solaar.webtique.online
SUMMARY:Private Tuition
DESCRIPTION:PLEASE NOTE \n\nSCHOOL IS CLOSED ON SEPTEMBER 1st FOR LABOR DAY\nTHERE WILL BE NO CLASSES FOR THE WEEK OF SEPTEMBER 15th\n\n\n\nRegister Today
URL:https://solaar.webtique.online/event/private-tuition-2/2025-10-07/
LOCATION:Solaar\, New Hope. 10539 122nd Ave Largo\, Largo\, FL\, United States
CATEGORIES:Private Tuition
ORGANIZER;CN="Society of Living Arts And Respite":MAILTO:jodi@solaar.online
END:VEVENT
BEGIN:VEVENT
DTSTART;TZID=America/Halifax:20251007T120000
DTEND;TZID=America/Halifax:20251007T130000
DTSTAMP:20260419T132442
CREATED:20250724T132501Z
LAST-MODIFIED:20250801T161912Z
UID:10000521-1759838400-1759842000@solaar.webtique.online
SUMMARY:Lunch / Private Tuition
DESCRIPTION:PLEASE NOTE \n\nSCHOOL IS CLOSED ON SEPTEMBER 1st FOR LABOR DAY\nTHERE WILL BE NO CLASSES FOR THE WEEK OF SEPTEMBER 15th\n\n\n\nRegister Today
URL:https://solaar.webtique.online/event/lunch-private-tuition-2/2025-10-07/
LOCATION:Solaar\, New Hope. 10539 122nd Ave Largo\, Largo\, FL\, United States
CATEGORIES:Private Tuition
ORGANIZER;CN="Society of Living Arts And Respite":MAILTO:jodi@solaar.online
END:VEVENT
BEGIN:VEVENT
DTSTART;TZID=America/Halifax:20251007T093000
DTEND;TZID=America/Halifax:20251007T110000
DTSTAMP:20260419T132442
CREATED:20250724T134827Z
LAST-MODIFIED:20250801T161839Z
UID:10002392-1759829400-1759834800@solaar.webtique.online
SUMMARY:Tiny and Tall Time
DESCRIPTION:PLEASE NOTE \n\nSCHOOL IS CLOSED ON SEPTEMBER 1st FOR LABOR DAY\nTHERE WILL BE NO CLASSES FOR THE WEEK OF SEPTEMBER 15th\n\n\n\nRegister Today
URL:https://solaar.webtique.online/event/tiny-and-tall-time-2/2025-10-07/
LOCATION:Solaar\, New Hope. 10539 122nd Ave Largo\, Largo\, FL\, United States
CATEGORIES:Lessons
ORGANIZER;CN="Society of Living Arts And Respite":MAILTO:jodi@solaar.online
END:VEVENT
BEGIN:VEVENT
DTSTART;TZID=America/Halifax:20251006T170000
DTEND;TZID=America/Halifax:20251006T175000
DTSTAMP:20260419T132442
CREATED:20250724T130932Z
LAST-MODIFIED:20250801T162906Z
UID:10000347-1759770000-1759773000@solaar.webtique.online
SUMMARY:Piano Lessons
DESCRIPTION:PLEASE NOTE \n\nSCHOOL IS CLOSED ON SEPTEMBER 1st FOR LABOR DAY\nTHERE WILL BE NO CLASSES FOR THE WEEK OF SEPTEMBER 15th\n\n\n\nRegister Today
URL:https://solaar.webtique.online/event/piano-lessons/2025-10-06/
LOCATION:Solaar\, New Hope. 10539 122nd Ave Largo\, Largo\, FL\, United States
CATEGORIES:Lessons
ORGANIZER;CN="Society of Living Arts And Respite":MAILTO:jodi@solaar.online
END:VEVENT
BEGIN:VEVENT
DTSTART;TZID=America/Halifax:20251006T160000
DTEND;TZID=America/Halifax:20251006T165000
DTSTAMP:20260419T132442
CREATED:20250724T130621Z
LAST-MODIFIED:20250801T162857Z
UID:10000291-1759766400-1759769400@solaar.webtique.online
SUMMARY:Private Tuition
DESCRIPTION:PLEASE NOTE \n\nSCHOOL IS CLOSED ON SEPTEMBER 1st FOR LABOR DAY\nTHERE WILL BE NO CLASSES FOR THE WEEK OF SEPTEMBER 15th\n\n\n\nRegister Today
URL:https://solaar.webtique.online/event/private-tuition/2025-10-06/
LOCATION:Solaar\, New Hope. 10539 122nd Ave Largo\, Largo\, FL\, United States
CATEGORIES:Private Tuition
ORGANIZER;CN="Society of Living Arts And Respite":MAILTO:jodi@solaar.online
END:VEVENT
BEGIN:VEVENT
DTSTART;TZID=America/Halifax:20251006T150000
DTEND;TZID=America/Halifax:20251006T155000
DTSTAMP:20260419T132442
CREATED:20250724T130238Z
LAST-MODIFIED:20250801T162846Z
UID:10000235-1759762800-1759765800@solaar.webtique.online
SUMMARY:Pre-Algebra ages 11-13
DESCRIPTION:PLEASE NOTE \n\nSCHOOL IS CLOSED ON SEPTEMBER 1st FOR LABOR DAY\nTHERE WILL BE NO CLASSES FOR THE WEEK OF SEPTEMBER 15th\n\n\n\nRegister Today
URL:https://solaar.webtique.online/event/pre-algebra-ages-11-13/2025-10-06/
LOCATION:Solaar\, New Hope. 10539 122nd Ave Largo\, Largo\, FL\, United States
CATEGORIES:Lessons
ORGANIZER;CN="Society of Living Arts And Respite":MAILTO:jodi@solaar.online
END:VEVENT
BEGIN:VEVENT
DTSTART;TZID=America/Halifax:20251006T140000
DTEND;TZID=America/Halifax:20251006T145000
DTSTAMP:20260419T132442
CREATED:20250724T125901Z
LAST-MODIFIED:20250801T162829Z
UID:10000179-1759759200-1759762200@solaar.webtique.online
SUMMARY:IEW 1B Writing for Middle Schoolers
DESCRIPTION:PLEASE NOTE \n\nSCHOOL IS CLOSED ON SEPTEMBER 1st FOR LABOR DAY\nTHERE WILL BE NO CLASSES FOR THE WEEK OF SEPTEMBER 15th\n\n\n\nRegister Today
URL:https://solaar.webtique.online/event/iew-1b-writing-for-middle-schoolers/2025-10-06/
LOCATION:Solaar\, New Hope. 10539 122nd Ave Largo\, Largo\, FL\, United States
CATEGORIES:Lessons
ORGANIZER;CN="Society of Living Arts And Respite":MAILTO:jodi@solaar.online
END:VEVENT
BEGIN:VEVENT
DTSTART;TZID=America/Halifax:20251006T130000
DTEND;TZID=America/Halifax:20251006T135000
DTSTAMP:20260419T132442
CREATED:20250724T125747Z
LAST-MODIFIED:20250801T162819Z
UID:10000122-1759755600-1759758600@solaar.webtique.online
SUMMARY:Biology ages 11-13
DESCRIPTION:PLEASE NOTE \n\nSCHOOL IS CLOSED ON SEPTEMBER 1st FOR LABOR DAY\nTHERE WILL BE NO CLASSES FOR THE WEEK OF SEPTEMBER 15th\n\n\n\nRegister Today
URL:https://solaar.webtique.online/event/biology-ages-11-13/2025-10-06/
LOCATION:Solaar\, New Hope. 10539 122nd Ave Largo\, Largo\, FL\, United States
CATEGORIES:Lessons
ORGANIZER;CN="Society of Living Arts And Respite":MAILTO:jodi@solaar.online
END:VEVENT
BEGIN:VEVENT
DTSTART;TZID=America/Halifax:20251006T120000
DTEND;TZID=America/Halifax:20251006T130000
DTSTAMP:20260419T132442
CREATED:20250724T123826Z
LAST-MODIFIED:20250801T162807Z
UID:10000066-1759752000-1759755600@solaar.webtique.online
SUMMARY:Lunch / private tuition
DESCRIPTION:PLEASE NOTE \n\nSCHOOL IS CLOSED ON SEPTEMBER 1st FOR LABOR DAY\nTHERE WILL BE NO CLASSES FOR THE WEEK OF SEPTEMBER 15th\n\n\n\nRegister Today
URL:https://solaar.webtique.online/event/lunch-private-tuition/2025-10-06/
LOCATION:Solaar\, New Hope. 10539 122nd Ave Largo\, Largo\, FL\, United States
CATEGORIES:Private Tuition
ORGANIZER;CN="Society of Living Arts And Respite":MAILTO:jodi@solaar.online
END:VEVENT
BEGIN:VEVENT
DTSTART;TZID=America/Halifax:20251006T110000
DTEND;TZID=America/Halifax:20251006T115000
DTSTAMP:20260419T132442
CREATED:20250724T132046Z
LAST-MODIFIED:20250801T162744Z
UID:10002325-1759748400-1759751400@solaar.webtique.online
SUMMARY:All About Reading Level 3 Ages 7-8 +
DESCRIPTION:PLEASE NOTE \n\nSCHOOL IS CLOSED ON SEPTEMBER 1st FOR LABOR DAY\nTHERE WILL BE NO CLASSES FOR THE WEEK OF SEPTEMBER 15th\n\n\n\nRegister Today
URL:https://solaar.webtique.online/event/all-about-reading-level-3-ages-7-8/2025-10-06/
LOCATION:Solaar\, New Hope. 10539 122nd Ave Largo\, Largo\, FL\, United States
CATEGORIES:Lessons
ORGANIZER;CN="Society of Living Arts And Respite":MAILTO:jodi@solaar.online
END:VEVENT
BEGIN:VEVENT
DTSTART;TZID=America/Halifax:20251006T110000
DTEND;TZID=America/Halifax:20251006T115000
DTSTAMP:20260419T132442
CREATED:20250724T122240Z
LAST-MODIFIED:20250801T140634Z
UID:10000062-1759748400-1759751400@solaar.webtique.online
SUMMARY:Mathematics Ages 6/7 pod
DESCRIPTION:PLEASE NOTE \n\nSCHOOL IS CLOSED ON SEPTEMBER 1st FOR LABOR DAY\nTHERE WILL BE NO CLASSES FOR THE WEEK OF SEPTEMBER 15th\n\n\n\nRegister Today
URL:https://solaar.webtique.online/event/mathematics-ages-6-7-pod/2025-10-06/
LOCATION:Solaar\, New Hope. 10539 122nd Ave Largo\, Largo\, FL\, United States
CATEGORIES:Lessons
ORGANIZER;CN="Society of Living Arts And Respite":MAILTO:jodi@solaar.online
END:VEVENT
BEGIN:VEVENT
DTSTART;TZID=America/Halifax:20251006T100000
DTEND;TZID=America/Halifax:20251006T105000
DTSTAMP:20260419T132442
CREATED:20250724T120459Z
LAST-MODIFIED:20250801T162724Z
UID:10000058-1759744800-1759747800@solaar.webtique.online
SUMMARY:Writing With Ease / First Language Lessons Ages 6/7
DESCRIPTION:Spelling\nHandwriting\n\nPLEASE NOTE \n\nSCHOOL IS CLOSED ON SEPTEMBER 1st FOR LABOR DAY\nTHERE WILL BE NO CLASSES FOR THE WEEK OF SEPTEMBER 15th\n\n\n\nRegister Today
URL:https://solaar.webtique.online/event/writing-with-ease-first-language-lessons-ages-6-7/2025-10-06/
LOCATION:Solaar\, New Hope. 10539 122nd Ave Largo\, Largo\, FL\, United States
CATEGORIES:Lessons
ORGANIZER;CN="Society of Living Arts And Respite":MAILTO:jodi@solaar.online
END:VEVENT
BEGIN:VEVENT
DTSTART;TZID=America/Halifax:20251003T180000
DTEND;TZID=America/Halifax:20251003T185000
DTSTAMP:20260419T132442
CREATED:20250724T160004Z
LAST-MODIFIED:20250801T162617Z
UID:10002202-1759514400-1759517400@solaar.webtique.online
SUMMARY:Debate - Ages 14+
DESCRIPTION:  \nPLEASE NOTE \n\nSCHOOL IS CLOSED ON SEPTEMBER 1st FOR LABOR DAY\nTHERE WILL BE NO CLASSES FOR THE WEEK OF SEPTEMBER 15th\n\n\n\nRegister Today
URL:https://solaar.webtique.online/event/debate-ages-14/2025-10-03/
LOCATION:Solaar\, New Hope. 10539 122nd Ave Largo\, Largo\, FL\, United States
CATEGORIES:Lessons
ORGANIZER;CN="Society of Living Arts And Respite":MAILTO:jodi@solaar.online
END:VEVENT
BEGIN:VEVENT
DTSTART;TZID=America/Halifax:20251003T170000
DTEND;TZID=America/Halifax:20251003T175000
DTSTAMP:20260419T132442
CREATED:20250724T155837Z
LAST-MODIFIED:20250801T162608Z
UID:10002144-1759510800-1759513800@solaar.webtique.online
SUMMARY:Teen Workbook Series “My Worth is Self Defined.” Ages 14+
DESCRIPTION:  \nPLEASE NOTE \n\nSCHOOL IS CLOSED ON SEPTEMBER 1st FOR LABOR DAY\nTHERE WILL BE NO CLASSES FOR THE WEEK OF SEPTEMBER 15th\n\n\n\nRegister Today
URL:https://solaar.webtique.online/event/teen-workbook-series-my-worth-is-self-defined-ages-14/2025-10-03/
LOCATION:Solaar\, New Hope. 10539 122nd Ave Largo\, Largo\, FL\, United States
CATEGORIES:Lessons
ORGANIZER;CN="Society of Living Arts And Respite":MAILTO:jodi@solaar.online
END:VEVENT
END:VCALENDAR