BEGIN:VCALENDAR
VERSION:2.0
PRODID:-//Society Of Living Arts And Respite - ECPv6.15.20//NONSGML v1.0//EN
CALSCALE:GREGORIAN
METHOD:PUBLISH
X-ORIGINAL-URL:https://solaar.webtique.online
X-WR-CALDESC:Events for Society Of Living Arts And Respite
REFRESH-INTERVAL;VALUE=DURATION:PT1H
X-Robots-Tag:noindex
X-PUBLISHED-TTL:PT1H
BEGIN:VTIMEZONE
TZID:America/Halifax
BEGIN:DAYLIGHT
TZOFFSETFROM:-0400
TZOFFSETTO:-0300
TZNAME:ADT
DTSTART:20240310T060000
END:DAYLIGHT
BEGIN:STANDARD
TZOFFSETFROM:-0300
TZOFFSETTO:-0400
TZNAME:AST
DTSTART:20241103T050000
END:STANDARD
BEGIN:DAYLIGHT
TZOFFSETFROM:-0400
TZOFFSETTO:-0300
TZNAME:ADT
DTSTART:20250309T060000
END:DAYLIGHT
BEGIN:STANDARD
TZOFFSETFROM:-0300
TZOFFSETTO:-0400
TZNAME:AST
DTSTART:20251102T050000
END:STANDARD
BEGIN:DAYLIGHT
TZOFFSETFROM:-0400
TZOFFSETTO:-0300
TZNAME:ADT
DTSTART:20260308T060000
END:DAYLIGHT
BEGIN:STANDARD
TZOFFSETFROM:-0300
TZOFFSETTO:-0400
TZNAME:AST
DTSTART:20261101T050000
END:STANDARD
END:VTIMEZONE
BEGIN:VEVENT
DTSTART;TZID=America/Halifax:20250923T170000
DTEND;TZID=America/Halifax:20250923T175000
DTSTAMP:20260419T210408
CREATED:20250724T132833Z
LAST-MODIFIED:20250801T161955Z
UID:10000693-1758646800-1758649800@solaar.webtique.online
SUMMARY:Private Tuition
DESCRIPTION:PLEASE NOTE \n\nSCHOOL IS CLOSED ON SEPTEMBER 1st FOR LABOR DAY\nTHERE WILL BE NO CLASSES FOR THE WEEK OF SEPTEMBER 15th\n\n\n\nRegister Today
URL:https://solaar.webtique.online/event/private-tuition-duplicate/2025-09-23/
LOCATION:Solaar\, New Hope. 10539 122nd Ave Largo\, Largo\, FL\, United States
CATEGORIES:Private Tuition
ORGANIZER;CN="Society of Living Arts And Respite":MAILTO:jodi@solaar.online
END:VEVENT
BEGIN:VEVENT
DTSTART;TZID=America/Halifax:20250923T160000
DTEND;TZID=America/Halifax:20250923T165000
DTSTAMP:20260419T210408
CREATED:20250724T132818Z
LAST-MODIFIED:20250801T161941Z
UID:10000635-1758643200-1758646200@solaar.webtique.online
SUMMARY:Private Tuition
DESCRIPTION:PLEASE NOTE \n\nSCHOOL IS CLOSED ON SEPTEMBER 1st FOR LABOR DAY\nTHERE WILL BE NO CLASSES FOR THE WEEK OF SEPTEMBER 15th\n\n\n\nRegister Today
URL:https://solaar.webtique.online/event/private-tuition-duplicate-duplicate/2025-09-23/
LOCATION:Solaar\, New Hope. 10539 122nd Ave Largo\, Largo\, FL\, United States
CATEGORIES:Private Tuition
ORGANIZER;CN="Society of Living Arts And Respite":MAILTO:jodi@solaar.online
END:VEVENT
BEGIN:VEVENT
DTSTART;TZID=America/Halifax:20250923T150000
DTEND;TZID=America/Halifax:20250923T155000
DTSTAMP:20260419T210408
CREATED:20250724T132709Z
LAST-MODIFIED:20250801T161929Z
UID:10000577-1758639600-1758642600@solaar.webtique.online
SUMMARY:Private Tuition
DESCRIPTION:PLEASE NOTE \n\nSCHOOL IS CLOSED ON SEPTEMBER 1st FOR LABOR DAY\nTHERE WILL BE NO CLASSES FOR THE WEEK OF SEPTEMBER 15th\n\n\n\nRegister Today
URL:https://solaar.webtique.online/event/private-tuition-2/2025-09-23/
LOCATION:Solaar\, New Hope. 10539 122nd Ave Largo\, Largo\, FL\, United States
CATEGORIES:Private Tuition
ORGANIZER;CN="Society of Living Arts And Respite":MAILTO:jodi@solaar.online
END:VEVENT
BEGIN:VEVENT
DTSTART;TZID=America/Halifax:20250923T120000
DTEND;TZID=America/Halifax:20250923T130000
DTSTAMP:20260419T210408
CREATED:20250724T132501Z
LAST-MODIFIED:20250801T161912Z
UID:10000519-1758628800-1758632400@solaar.webtique.online
SUMMARY:Lunch / Private Tuition
DESCRIPTION:PLEASE NOTE \n\nSCHOOL IS CLOSED ON SEPTEMBER 1st FOR LABOR DAY\nTHERE WILL BE NO CLASSES FOR THE WEEK OF SEPTEMBER 15th\n\n\n\nRegister Today
URL:https://solaar.webtique.online/event/lunch-private-tuition-2/2025-09-23/
LOCATION:Solaar\, New Hope. 10539 122nd Ave Largo\, Largo\, FL\, United States
CATEGORIES:Private Tuition
ORGANIZER;CN="Society of Living Arts And Respite":MAILTO:jodi@solaar.online
END:VEVENT
BEGIN:VEVENT
DTSTART;TZID=America/Halifax:20250922T160000
DTEND;TZID=America/Halifax:20250922T165000
DTSTAMP:20260419T210408
CREATED:20250724T130621Z
LAST-MODIFIED:20250801T162857Z
UID:10000289-1758556800-1758559800@solaar.webtique.online
SUMMARY:Private Tuition
DESCRIPTION:PLEASE NOTE \n\nSCHOOL IS CLOSED ON SEPTEMBER 1st FOR LABOR DAY\nTHERE WILL BE NO CLASSES FOR THE WEEK OF SEPTEMBER 15th\n\n\n\nRegister Today
URL:https://solaar.webtique.online/event/private-tuition/2025-09-22/
LOCATION:Solaar\, New Hope. 10539 122nd Ave Largo\, Largo\, FL\, United States
CATEGORIES:Private Tuition
ORGANIZER;CN="Society of Living Arts And Respite":MAILTO:jodi@solaar.online
END:VEVENT
BEGIN:VEVENT
DTSTART;TZID=America/Halifax:20250922T120000
DTEND;TZID=America/Halifax:20250922T130000
DTSTAMP:20260419T210408
CREATED:20250724T123826Z
LAST-MODIFIED:20250801T162807Z
UID:10000064-1758542400-1758546000@solaar.webtique.online
SUMMARY:Lunch / private tuition
DESCRIPTION:PLEASE NOTE \n\nSCHOOL IS CLOSED ON SEPTEMBER 1st FOR LABOR DAY\nTHERE WILL BE NO CLASSES FOR THE WEEK OF SEPTEMBER 15th\n\n\n\nRegister Today
URL:https://solaar.webtique.online/event/lunch-private-tuition/2025-09-22/
LOCATION:Solaar\, New Hope. 10539 122nd Ave Largo\, Largo\, FL\, United States
CATEGORIES:Private Tuition
ORGANIZER;CN="Society of Living Arts And Respite":MAILTO:jodi@solaar.online
END:VEVENT
BEGIN:VEVENT
DTSTART;TZID=America/Halifax:20250909T170000
DTEND;TZID=America/Halifax:20250909T175000
DTSTAMP:20260419T210408
CREATED:20250724T132833Z
LAST-MODIFIED:20250801T161955Z
UID:10002385-1757437200-1757440200@solaar.webtique.online
SUMMARY:Private Tuition
DESCRIPTION:PLEASE NOTE \n\nSCHOOL IS CLOSED ON SEPTEMBER 1st FOR LABOR DAY\nTHERE WILL BE NO CLASSES FOR THE WEEK OF SEPTEMBER 15th\n\n\n\nRegister Today
URL:https://solaar.webtique.online/event/private-tuition-duplicate/2025-09-09/
LOCATION:Solaar\, New Hope. 10539 122nd Ave Largo\, Largo\, FL\, United States
CATEGORIES:Private Tuition
ORGANIZER;CN="Society of Living Arts And Respite":MAILTO:jodi@solaar.online
END:VEVENT
BEGIN:VEVENT
DTSTART;TZID=America/Halifax:20250909T160000
DTEND;TZID=America/Halifax:20250909T165000
DTSTAMP:20260419T210408
CREATED:20250724T132818Z
LAST-MODIFIED:20250801T161941Z
UID:10002502-1757433600-1757436600@solaar.webtique.online
SUMMARY:Private Tuition
DESCRIPTION:PLEASE NOTE \n\nSCHOOL IS CLOSED ON SEPTEMBER 1st FOR LABOR DAY\nTHERE WILL BE NO CLASSES FOR THE WEEK OF SEPTEMBER 15th\n\n\n\nRegister Today
URL:https://solaar.webtique.online/event/private-tuition-duplicate-duplicate/2025-09-09/
LOCATION:Solaar\, New Hope. 10539 122nd Ave Largo\, Largo\, FL\, United States
CATEGORIES:Private Tuition
ORGANIZER;CN="Society of Living Arts And Respite":MAILTO:jodi@solaar.online
END:VEVENT
BEGIN:VEVENT
DTSTART;TZID=America/Halifax:20250909T150000
DTEND;TZID=America/Halifax:20250909T155000
DTSTAMP:20260419T210408
CREATED:20250724T132709Z
LAST-MODIFIED:20250801T161929Z
UID:10002503-1757430000-1757433000@solaar.webtique.online
SUMMARY:Private Tuition
DESCRIPTION:PLEASE NOTE \n\nSCHOOL IS CLOSED ON SEPTEMBER 1st FOR LABOR DAY\nTHERE WILL BE NO CLASSES FOR THE WEEK OF SEPTEMBER 15th\n\n\n\nRegister Today
URL:https://solaar.webtique.online/event/private-tuition-2/2025-09-09/
LOCATION:Solaar\, New Hope. 10539 122nd Ave Largo\, Largo\, FL\, United States
CATEGORIES:Private Tuition
ORGANIZER;CN="Society of Living Arts And Respite":MAILTO:jodi@solaar.online
END:VEVENT
BEGIN:VEVENT
DTSTART;TZID=America/Halifax:20250909T120000
DTEND;TZID=America/Halifax:20250909T130000
DTSTAMP:20260419T210408
CREATED:20250724T132501Z
LAST-MODIFIED:20250801T161912Z
UID:10002379-1757419200-1757422800@solaar.webtique.online
SUMMARY:Lunch / Private Tuition
DESCRIPTION:PLEASE NOTE \n\nSCHOOL IS CLOSED ON SEPTEMBER 1st FOR LABOR DAY\nTHERE WILL BE NO CLASSES FOR THE WEEK OF SEPTEMBER 15th\n\n\n\nRegister Today
URL:https://solaar.webtique.online/event/lunch-private-tuition-2/2025-09-09/
LOCATION:Solaar\, New Hope. 10539 122nd Ave Largo\, Largo\, FL\, United States
CATEGORIES:Private Tuition
ORGANIZER;CN="Society of Living Arts And Respite":MAILTO:jodi@solaar.online
END:VEVENT
BEGIN:VEVENT
DTSTART;TZID=America/Halifax:20250908T160000
DTEND;TZID=America/Halifax:20250908T165000
DTSTAMP:20260419T210408
CREATED:20250724T130621Z
LAST-MODIFIED:20250801T162857Z
UID:10002264-1757347200-1757350200@solaar.webtique.online
SUMMARY:Private Tuition
DESCRIPTION:PLEASE NOTE \n\nSCHOOL IS CLOSED ON SEPTEMBER 1st FOR LABOR DAY\nTHERE WILL BE NO CLASSES FOR THE WEEK OF SEPTEMBER 15th\n\n\n\nRegister Today
URL:https://solaar.webtique.online/event/private-tuition/2025-09-08/
LOCATION:Solaar\, New Hope. 10539 122nd Ave Largo\, Largo\, FL\, United States
CATEGORIES:Private Tuition
ORGANIZER;CN="Society of Living Arts And Respite":MAILTO:jodi@solaar.online
END:VEVENT
BEGIN:VEVENT
DTSTART;TZID=America/Halifax:20250908T120000
DTEND;TZID=America/Halifax:20250908T130000
DTSTAMP:20260419T210408
CREATED:20250724T123826Z
LAST-MODIFIED:20250801T162807Z
UID:10002260-1757332800-1757336400@solaar.webtique.online
SUMMARY:Lunch / private tuition
DESCRIPTION:PLEASE NOTE \n\nSCHOOL IS CLOSED ON SEPTEMBER 1st FOR LABOR DAY\nTHERE WILL BE NO CLASSES FOR THE WEEK OF SEPTEMBER 15th\n\n\n\nRegister Today
URL:https://solaar.webtique.online/event/lunch-private-tuition/2025-09-08/
LOCATION:Solaar\, New Hope. 10539 122nd Ave Largo\, Largo\, FL\, United States
CATEGORIES:Private Tuition
ORGANIZER;CN="Society of Living Arts And Respite":MAILTO:jodi@solaar.online
END:VEVENT
BEGIN:VEVENT
DTSTART;TZID=America/Halifax:20250902T170000
DTEND;TZID=America/Halifax:20250902T175000
DTSTAMP:20260419T210408
CREATED:20250724T132833Z
LAST-MODIFIED:20250801T161955Z
UID:10002384-1756832400-1756835400@solaar.webtique.online
SUMMARY:Private Tuition
DESCRIPTION:PLEASE NOTE \n\nSCHOOL IS CLOSED ON SEPTEMBER 1st FOR LABOR DAY\nTHERE WILL BE NO CLASSES FOR THE WEEK OF SEPTEMBER 15th\n\n\n\nRegister Today
URL:https://solaar.webtique.online/event/private-tuition-duplicate/2025-09-02/
LOCATION:Solaar\, New Hope. 10539 122nd Ave Largo\, Largo\, FL\, United States
CATEGORIES:Private Tuition
ORGANIZER;CN="Society of Living Arts And Respite":MAILTO:jodi@solaar.online
END:VEVENT
BEGIN:VEVENT
DTSTART;TZID=America/Halifax:20250902T160000
DTEND;TZID=America/Halifax:20250902T165000
DTSTAMP:20260419T210408
CREATED:20250724T132818Z
LAST-MODIFIED:20250801T161941Z
UID:10002382-1756828800-1756831800@solaar.webtique.online
SUMMARY:Private Tuition
DESCRIPTION:PLEASE NOTE \n\nSCHOOL IS CLOSED ON SEPTEMBER 1st FOR LABOR DAY\nTHERE WILL BE NO CLASSES FOR THE WEEK OF SEPTEMBER 15th\n\n\n\nRegister Today
URL:https://solaar.webtique.online/event/private-tuition-duplicate-duplicate/2025-09-02/
LOCATION:Solaar\, New Hope. 10539 122nd Ave Largo\, Largo\, FL\, United States
CATEGORIES:Private Tuition
ORGANIZER;CN="Society of Living Arts And Respite":MAILTO:jodi@solaar.online
END:VEVENT
BEGIN:VEVENT
DTSTART;TZID=America/Halifax:20250902T150000
DTEND;TZID=America/Halifax:20250902T155000
DTSTAMP:20260419T210408
CREATED:20250724T132709Z
LAST-MODIFIED:20250801T161929Z
UID:10002380-1756825200-1756828200@solaar.webtique.online
SUMMARY:Private Tuition
DESCRIPTION:PLEASE NOTE \n\nSCHOOL IS CLOSED ON SEPTEMBER 1st FOR LABOR DAY\nTHERE WILL BE NO CLASSES FOR THE WEEK OF SEPTEMBER 15th\n\n\n\nRegister Today
URL:https://solaar.webtique.online/event/private-tuition-2/2025-09-02/
LOCATION:Solaar\, New Hope. 10539 122nd Ave Largo\, Largo\, FL\, United States
CATEGORIES:Private Tuition
ORGANIZER;CN="Society of Living Arts And Respite":MAILTO:jodi@solaar.online
END:VEVENT
BEGIN:VEVENT
DTSTART;TZID=America/Halifax:20250902T120000
DTEND;TZID=America/Halifax:20250902T130000
DTSTAMP:20260419T210408
CREATED:20250724T132501Z
LAST-MODIFIED:20250801T161912Z
UID:10002378-1756814400-1756818000@solaar.webtique.online
SUMMARY:Lunch / Private Tuition
DESCRIPTION:PLEASE NOTE \n\nSCHOOL IS CLOSED ON SEPTEMBER 1st FOR LABOR DAY\nTHERE WILL BE NO CLASSES FOR THE WEEK OF SEPTEMBER 15th\n\n\n\nRegister Today
URL:https://solaar.webtique.online/event/lunch-private-tuition-2/2025-09-02/
LOCATION:Solaar\, New Hope. 10539 122nd Ave Largo\, Largo\, FL\, United States
CATEGORIES:Private Tuition
ORGANIZER;CN="Society of Living Arts And Respite":MAILTO:jodi@solaar.online
END:VEVENT
END:VCALENDAR