BEGIN:VCALENDAR
VERSION:2.0
PRODID:-//Society Of Living Arts And Respite - ECPv6.15.20//NONSGML v1.0//EN
CALSCALE:GREGORIAN
METHOD:PUBLISH
X-ORIGINAL-URL:https://solaar.webtique.online
X-WR-CALDESC:Events for Society Of Living Arts And Respite
REFRESH-INTERVAL;VALUE=DURATION:PT1H
X-Robots-Tag:noindex
X-PUBLISHED-TTL:PT1H
BEGIN:VTIMEZONE
TZID:America/Halifax
BEGIN:DAYLIGHT
TZOFFSETFROM:-0400
TZOFFSETTO:-0300
TZNAME:ADT
DTSTART:20240310T060000
END:DAYLIGHT
BEGIN:STANDARD
TZOFFSETFROM:-0300
TZOFFSETTO:-0400
TZNAME:AST
DTSTART:20241103T050000
END:STANDARD
BEGIN:DAYLIGHT
TZOFFSETFROM:-0400
TZOFFSETTO:-0300
TZNAME:ADT
DTSTART:20250309T060000
END:DAYLIGHT
BEGIN:STANDARD
TZOFFSETFROM:-0300
TZOFFSETTO:-0400
TZNAME:AST
DTSTART:20251102T050000
END:STANDARD
BEGIN:DAYLIGHT
TZOFFSETFROM:-0400
TZOFFSETTO:-0300
TZNAME:ADT
DTSTART:20260308T060000
END:DAYLIGHT
BEGIN:STANDARD
TZOFFSETFROM:-0300
TZOFFSETTO:-0400
TZNAME:AST
DTSTART:20261101T050000
END:STANDARD
END:VTIMEZONE
BEGIN:VEVENT
DTSTART;VALUE=DATE:20250609
DTEND;VALUE=DATE:20250802
DTSTAMP:20260421T001228
CREATED:20250629T185457Z
LAST-MODIFIED:20250629T191139Z
UID:10000013-1749427200-1754092799@solaar.webtique.online
SUMMARY:SOLAAR Summer Camp 2025
DESCRIPTION:9 am – 2:30 pm Mon – Fri\nFun\, Friends\, and Growth—All Summer Long\n\nGive your child the ultimate summer experience where they can make new friends\, build confidence\, and explore exciting activities in a safe and supportive setting. SOLAAR Summer Camp is designed to keep kids engaged\, learning\, and having fun while developing important social and life skills.\n\n\nWhy Parents Love SOLAAR Summer Camp\nEncourages Social Growth – Kids build friendships and teamwork skills\nFun and Engaging Activities – Creative play\, group games\, and hands-on learning\nSafe and Supportive Environment – Caring staff dedicated to your child’s success\nBuilds Confidence and Independence – Encourages self-expression and problem-solving\n\n\nLocation: Largo\, FL\nDates: June 9th – Aug 1sst\nHours: 9:00 AM – 2:30 PM\nBefore & After Care Available\nAges: 6-12\nCost: $40 per day\n\n\nLimited spots available. Secure your child’s place today.\n\n\nCall or Text: Jodi Buchanan at 727-370-5049\nLearn More & Register: www.solaar.online\n\n\nMake this summer an unforgettable experience for your child!\n\n\n\n\n\nRegister Today
URL:https://solaar.webtique.online/event/solaar-summer-camp-2025/
LOCATION:Solaar\, New Hope. 10539 122nd Ave Largo\, Largo\, FL\, United States
CATEGORIES:Group Events
ATTACH;FMTTYPE=image/jpeg:https://solaar.webtique.online/wp-content/uploads/2025/03/Summer-Camp.jpg
END:VEVENT
END:VCALENDAR